BEGIN:VCALENDAR
VERSION:2.0
PRODID:-//Graf-Stauffenberg-Realschule Bamberg - ECPv6.15.20//NONSGML v1.0//EN
CALSCALE:GREGORIAN
METHOD:PUBLISH
X-ORIGINAL-URL:https://www.gsr-bamberg.de/wordpress
X-WR-CALDESC:Veranstaltungen für Graf-Stauffenberg-Realschule Bamberg
REFRESH-INTERVAL;VALUE=DURATION:PT1H
X-Robots-Tag:noindex
X-PUBLISHED-TTL:PT1H
BEGIN:VTIMEZONE
TZID:Europe/Berlin
BEGIN:DAYLIGHT
TZOFFSETFROM:+0100
TZOFFSETTO:+0200
TZNAME:CEST
DTSTART:20240331T010000
END:DAYLIGHT
BEGIN:STANDARD
TZOFFSETFROM:+0200
TZOFFSETTO:+0100
TZNAME:CET
DTSTART:20241027T010000
END:STANDARD
BEGIN:DAYLIGHT
TZOFFSETFROM:+0100
TZOFFSETTO:+0200
TZNAME:CEST
DTSTART:20250330T010000
END:DAYLIGHT
BEGIN:STANDARD
TZOFFSETFROM:+0200
TZOFFSETTO:+0100
TZNAME:CET
DTSTART:20251026T010000
END:STANDARD
BEGIN:DAYLIGHT
TZOFFSETFROM:+0100
TZOFFSETTO:+0200
TZNAME:CEST
DTSTART:20260329T010000
END:DAYLIGHT
BEGIN:STANDARD
TZOFFSETFROM:+0200
TZOFFSETTO:+0100
TZNAME:CET
DTSTART:20261025T010000
END:STANDARD
END:VTIMEZONE
BEGIN:VEVENT
DTSTART;TZID=Europe/Berlin:20251007T183000
DTEND;TZID=Europe/Berlin:20251007T193000
DTSTAMP:20260422T161842
CREATED:20250923T151506Z
LAST-MODIFIED:20250923T151506Z
UID:2944-1759861800-1759865400@www.gsr-bamberg.de
SUMMARY:Klassenelternversammlung 10ac
DESCRIPTION:
URL:https://www.gsr-bamberg.de/wordpress/event/klassenelternversammlung-10ac/
CATEGORIES:Schulveranstaltung
END:VEVENT
BEGIN:VEVENT
DTSTART;TZID=Europe/Berlin:20251007T193000
DTEND;TZID=Europe/Berlin:20251007T203000
DTSTAMP:20260422T161842
CREATED:20250923T151612Z
LAST-MODIFIED:20250923T151612Z
UID:2946-1759865400-1759869000@www.gsr-bamberg.de
SUMMARY:Infos zur FOS für 10abc
DESCRIPTION:
URL:https://www.gsr-bamberg.de/wordpress/event/infos-zur-fos-fuer-10abc/
CATEGORIES:Schulveranstaltung
END:VEVENT
END:VCALENDAR