BEGIN:VCALENDAR
VERSION:2.0
PRODID:-//Graf-Stauffenberg-Realschule Bamberg - ECPv6.15.20//NONSGML v1.0//EN
CALSCALE:GREGORIAN
METHOD:PUBLISH
X-WR-CALNAME:Graf-Stauffenberg-Realschule Bamberg
X-ORIGINAL-URL:https://www.gsr-bamberg.de/wordpress
X-WR-CALDESC:Veranstaltungen für Graf-Stauffenberg-Realschule Bamberg
REFRESH-INTERVAL;VALUE=DURATION:PT1H
X-Robots-Tag:noindex
X-PUBLISHED-TTL:PT1H
BEGIN:VTIMEZONE
TZID:Europe/Berlin
BEGIN:DAYLIGHT
TZOFFSETFROM:+0100
TZOFFSETTO:+0200
TZNAME:CEST
DTSTART:20250330T010000
END:DAYLIGHT
BEGIN:STANDARD
TZOFFSETFROM:+0200
TZOFFSETTO:+0100
TZNAME:CET
DTSTART:20251026T010000
END:STANDARD
BEGIN:DAYLIGHT
TZOFFSETFROM:+0100
TZOFFSETTO:+0200
TZNAME:CEST
DTSTART:20260329T010000
END:DAYLIGHT
BEGIN:STANDARD
TZOFFSETFROM:+0200
TZOFFSETTO:+0100
TZNAME:CET
DTSTART:20261025T010000
END:STANDARD
BEGIN:DAYLIGHT
TZOFFSETFROM:+0100
TZOFFSETTO:+0200
TZNAME:CEST
DTSTART:20270328T010000
END:DAYLIGHT
BEGIN:STANDARD
TZOFFSETFROM:+0200
TZOFFSETTO:+0100
TZNAME:CET
DTSTART:20271031T010000
END:STANDARD
END:VTIMEZONE
BEGIN:VEVENT
DTSTART;TZID=Europe/Berlin:20260515T083000
DTEND;TZID=Europe/Berlin:20260515T123000
DTSTAMP:20260421T115143
CREATED:20260312T065130Z
LAST-MODIFIED:20260312T065130Z
UID:3227-1778833800-1778848200@www.gsr-bamberg.de
SUMMARY:Anmeldung
DESCRIPTION:15.5.26 | 8:30 Uhr bis 12:30 Uhr
URL:https://www.gsr-bamberg.de/wordpress/event/anmeldung-2/
END:VEVENT
END:VCALENDAR