BEGIN:VCALENDAR
VERSION:2.0
PRODID:-//Graf-Stauffenberg-Realschule Bamberg - ECPv6.15.20//NONSGML v1.0//EN
CALSCALE:GREGORIAN
METHOD:PUBLISH
X-ORIGINAL-URL:https://www.gsr-bamberg.de/wordpress
X-WR-CALDESC:Veranstaltungen für Graf-Stauffenberg-Realschule Bamberg
REFRESH-INTERVAL;VALUE=DURATION:PT1H
X-Robots-Tag:noindex
X-PUBLISHED-TTL:PT1H
BEGIN:VTIMEZONE
TZID:Europe/Berlin
BEGIN:DAYLIGHT
TZOFFSETFROM:+0100
TZOFFSETTO:+0200
TZNAME:CEST
DTSTART:20240331T010000
END:DAYLIGHT
BEGIN:STANDARD
TZOFFSETFROM:+0200
TZOFFSETTO:+0100
TZNAME:CET
DTSTART:20241027T010000
END:STANDARD
BEGIN:DAYLIGHT
TZOFFSETFROM:+0100
TZOFFSETTO:+0200
TZNAME:CEST
DTSTART:20250330T010000
END:DAYLIGHT
BEGIN:STANDARD
TZOFFSETFROM:+0200
TZOFFSETTO:+0100
TZNAME:CET
DTSTART:20251026T010000
END:STANDARD
BEGIN:DAYLIGHT
TZOFFSETFROM:+0100
TZOFFSETTO:+0200
TZNAME:CEST
DTSTART:20260329T010000
END:DAYLIGHT
BEGIN:STANDARD
TZOFFSETFROM:+0200
TZOFFSETTO:+0100
TZNAME:CET
DTSTART:20261025T010000
END:STANDARD
END:VTIMEZONE
BEGIN:VEVENT
DTSTART;VALUE=DATE:20250501
DTEND;VALUE=DATE:20250502
DTSTAMP:20260424T162704
CREATED:20240923T062023Z
LAST-MODIFIED:20240923T062023Z
UID:2394-1746057600-1746143999@www.gsr-bamberg.de
SUMMARY:Tag der Arbeit
DESCRIPTION:
URL:https://www.gsr-bamberg.de/wordpress/event/tag-der-arbeit/
CATEGORIES:Feiertage
END:VEVENT
BEGIN:VEVENT
DTSTART;VALUE=DATE:20250505
DTEND;VALUE=DATE:20250506
DTSTAMP:20260424T162704
CREATED:20250404T073149Z
LAST-MODIFIED:20250404T073149Z
UID:2750-1746403200-1746489599@www.gsr-bamberg.de
SUMMARY:Solilauf
DESCRIPTION:
URL:https://www.gsr-bamberg.de/wordpress/event/solilauf/
CATEGORIES:Schulveranstaltung
END:VEVENT
BEGIN:VEVENT
DTSTART;VALUE=DATE:20250505
DTEND;VALUE=DATE:20250510
DTSTAMP:20260424T162704
CREATED:20250404T073459Z
LAST-MODIFIED:20250404T073545Z
UID:2752-1746403200-1746835199@www.gsr-bamberg.de
SUMMARY:Anmeldung 5. Jahrgangsstufe
DESCRIPTION:
URL:https://www.gsr-bamberg.de/wordpress/event/anmeldung-5-jahrgangsstufe/
CATEGORIES:Schulveranstaltung
END:VEVENT
BEGIN:VEVENT
DTSTART;VALUE=DATE:20250529
DTEND;VALUE=DATE:20250530
DTSTAMP:20260424T162704
CREATED:20240923T062104Z
LAST-MODIFIED:20240923T062104Z
UID:2396-1748476800-1748563199@www.gsr-bamberg.de
SUMMARY:Christi Himmelfahrt
DESCRIPTION:
URL:https://www.gsr-bamberg.de/wordpress/event/christi-himmelfahrt/
CATEGORIES:Feiertage
END:VEVENT
END:VCALENDAR